BEGIN:VCALENDAR
VERSION:2.0
PRODID:-//jEvents 2.0 for Joomla//EN
CALSCALE:GREGORIAN
METHOD:PUBLISH
BEGIN:VEVENT
UID:689-1-1774333623-calendar--info@kss.schulerzbistum.de
CATEGORIES:Schulkalender
CREATED:20260324T072812
SUMMARY:Ausdauertest 2. Semester (Schwimmen) ab 14:30 Uhr
DESCRIPTION:
DTSTAMP:20260423T060658
DTSTART:20260503T220000
DTEND:20260504T215900
SEQUENCE:2
TRANSP:OPAQUE
END:VEVENT
END:VCALENDAR