BEGIN:VCALENDAR
VERSION:2.0
PRODID:-//jEvents 2.0 for Joomla//EN
CALSCALE:GREGORIAN
METHOD:PUBLISH
BEGIN:VEVENT
UID:682-1-1774333436-calendar--info@kss.schulerzbistum.de
CATEGORIES:Schulkalender
CREATED:20260324T072413
SUMMARY:MSA + EBBR: Englisch
DESCRIPTION:
DTSTAMP:20260424T042314
DTSTART:20260504T220000
DTEND:20260505T215900
SEQUENCE:2
TRANSP:OPAQUE
END:VEVENT
END:VCALENDAR