BEGIN:VCALENDAR
VERSION:2.0
PRODID:-//jEvents 2.0 for Joomla//EN
CALSCALE:GREGORIAN
METHOD:PUBLISH
BEGIN:VEVENT
UID:681-1-1774333397-calendar--info@kss.schulerzbistum.de
CATEGORIES:Schulkalender
CREATED:20260324T072413
SUMMARY:1. Mai/Tag der Arbeit
DESCRIPTION:
DTSTAMP:20260422T073341
DTSTART:20260430T220000
DTEND:20260501T215900
SEQUENCE:2
TRANSP:OPAQUE
END:VEVENT
END:VCALENDAR